BEGIN:VCALENDAR
VERSION:2.0
PRODID:-//Garden of Yoga - ECPv6.15.20//NONSGML v1.0//EN
CALSCALE:GREGORIAN
METHOD:PUBLISH
X-ORIGINAL-URL:https://gardenofyoga.com
X-WR-CALDESC:Events for Garden of Yoga
REFRESH-INTERVAL;VALUE=DURATION:PT1H
X-Robots-Tag:noindex
X-PUBLISHED-TTL:PT1H
BEGIN:VTIMEZONE
TZID:America/Los_Angeles
BEGIN:DAYLIGHT
TZOFFSETFROM:-0800
TZOFFSETTO:-0700
TZNAME:PDT
DTSTART:20250309T100000
END:DAYLIGHT
BEGIN:STANDARD
TZOFFSETFROM:-0700
TZOFFSETTO:-0800
TZNAME:PST
DTSTART:20251102T090000
END:STANDARD
BEGIN:DAYLIGHT
TZOFFSETFROM:-0800
TZOFFSETTO:-0700
TZNAME:PDT
DTSTART:20260308T100000
END:DAYLIGHT
BEGIN:STANDARD
TZOFFSETFROM:-0700
TZOFFSETTO:-0800
TZNAME:PST
DTSTART:20261101T090000
END:STANDARD
BEGIN:DAYLIGHT
TZOFFSETFROM:-0800
TZOFFSETTO:-0700
TZNAME:PDT
DTSTART:20270314T100000
END:DAYLIGHT
BEGIN:STANDARD
TZOFFSETFROM:-0700
TZOFFSETTO:-0800
TZNAME:PST
DTSTART:20271107T090000
END:STANDARD
END:VTIMEZONE
BEGIN:VEVENT
DTSTART;TZID=America/Los_Angeles:20260415T170000
DTEND;TZID=America/Los_Angeles:20260415T180000
DTSTAMP:20260421T064109
CREATED:20260320T194331Z
LAST-MODIFIED:20260320T194331Z
UID:4624-1776272400-1776276000@gardenofyoga.com
SUMMARY:Wednesday - Mindful Yoga Class: In Studio & Live Online
DESCRIPTION:This mindful Hatha yoga practice integrates breath work\, postures\, and meditation into a flow-inspired session designed to harmonize the mind\, body\, and spirit. \nRegister for the Mindful Yoga Class here. \nThis class is held in person at Garden of Yoga studio and live online via Zoom. \nLearn more about the Mindful Yoga Classes here: \nMindful Yoga Class In-Studio | Mindful Yoga Class Live Online
URL:https://gardenofyoga.com/event/mindful-yoga-class-wed-4-15/
LOCATION:Garden of Yoga\, 22284 Buena Ventura St.\, Woodland Hills\, CA\, 91364\, United States
CATEGORIES:Class,In-Studio Class,Live Online Class
ATTACH;FMTTYPE=image/webp:https://gardenofyoga.com/wp-content/uploads/2026/02/Beginner-Yoga-square.webp
END:VEVENT
END:VCALENDAR